BEGIN:VCALENDAR
VERSION:2.0
PRODID:-//hacksw/handcal//NONSGML v1.0//EN
BEGIN:VEVENT
UID:3e6d0ded00294285d6f86154a5964151
DTSTAMP:20260423T183426Z

DTSTART:20240119T110000
DTEND:20240122T110000
SUMMARY:Retreat in Pacific City 
DESCRIPTION:A loving, supportive retreat! \nThis description will be edited if possible.

X-ALT-DESC;FMTTYPE=text/html:<!DOCTYPE HTML PUBLIC "-//W3C//DTD HTML 3.2//EN">\n<HTML>\n<HEAD>\n<META NAME="Generator" CONTENT="MS Exchange Server version 08.00.0681.000">\n<TITLE></TITLE>\n</HEAD>\n<BODY>\n<!-- Converted from text/rtf format -->\n\nA loving, supportive retreat! <br />This description will be edited if possible.\n\n</BODY>\n</HTML>

LOCATION:
END:VEVENT

END:VCALENDAR
